BEGIN:VCALENDAR
VERSION:2.0
PRODID:-//eventon.com NONSGML v1.0//EN
BEGIN:VEVENT
UID:69e836e931c3c
DTSTAMP:20260421T194809
DTSTART:20211204T200000Z
DTEND:20211204T220000Z
LOCATION:Brentwood Plaza 
SUMMARY:HOLIDAY MOVIES ON THE PLAZA
DESCRIPTION: 
END:VEVENT
END:VCALENDAR