BEGIN:VCALENDAR
VERSION:2.0
PRODID:-//eventon.com NONSGML v1.0//EN
BEGIN:VEVENT
UID:69e94e1b82536
DTSTAMP:20260422T153923
DTSTART:20231026T233000Z
DTEND:20231027T003000Z
LOCATION:Previous Coles Space - Next to Telus on the Lower Level 
SUMMARY:Brick-or-Treat: LEGO Workshop (SOLD OUT)
DESCRIPTION: In partnership with Toursim Burnaby for the Burnaby Halloween Festival\,  join us for Brick-Or-Treat: LEGO Workshop. This one-hour Halloween themed workshop will have participants learn first-hand from Robin Sather\,  the first LEGO Certified Professional in Canada. Each participant will receive a special LEGO gift bag containing: 1 x Sixty-piece LEGO[..]
END:VEVENT
END:VCALENDAR