BEGIN:VCALENDAR
VERSION:2.0
PRODID:-//eventon.com NONSGML v1.0//EN
BEGIN:VEVENT
UID:69e6d9fa65c16
DTSTAMP:20260420T185922
DTSTART:20240401T180000Z
DTEND:20240401T190000Z
LOCATION:Interior Centre - Upper Centre Court 
SUMMARY:Easter Storytime & Crafts
DESCRIPTION: Join us for a special Easter themed Storytime & Crafts on Monday\,  April 1st from 11am to 12pm at Upper Centre Court with Oui Entertain. Plus\,  don't miss out on a special Easter treat – each participant will receive a chocolate egg along with an exclusive  OEB Breakfast Golden Egg[..]
END:VEVENT
END:VCALENDAR