BEGIN:VCALENDAR
VERSION:2.0
PRODID:-//eventon.com NONSGML v1.0//EN
BEGIN:VEVENT
UID:69e5db9a298b8
DTSTAMP:20260420T005402
DTSTART:20240914T180000Z
DTEND:20240914T220000Z
LOCATION:The Grand Lobby 
SUMMARY:Coats for Kids Fundraiser
DESCRIPTION: Join us this Saturday\,  September 14 from 11am - 3pm for the Rotary Coats for Kids fundraiser. The Rotary Club of Burnaby Metrotown will be on site collecting donations towards new coats for elementary children in Burnaby who otherwise might go without a coat this winter. Donate and be entered[..]
END:VEVENT
END:VCALENDAR