BEGIN:VCALENDAR
VERSION:2.0
PRODID:-//eventon.com NONSGML v1.0//EN
BEGIN:VEVENT
UID:69e64e3e52a6c
DTSTAMP:20260420T090310
DTSTART:20260125T150000Z
DTEND:20260125T160000Z
LOCATION:Evolve Strength 1920 Willingdon Ave #3105
SUMMARY:Strength + Conditioning with PWR Performance Coaching
DESCRIPTION: Start your week off strong with our Sunday Sweat Series in partnership with Evolve Strength! Join us on Sunday\,  January 25 from 8am -9am for a complimentary Strength and Conditioning Class with PWR Performance Coaching. When: Sunday\,  January 25 from 8am - 9am Where: Evolve Strength Brentwood (on the green[..]
END:VEVENT
END:VCALENDAR