BEGIN:VCALENDAR
VERSION:2.0
PRODID:-//eventon.com NONSGML v1.0//EN
BEGIN:VEVENT
UID:69e62939f15b1
DTSTAMP:20260420T062513
DTSTART:20260201T150000Z
DTEND:20260201T160000Z
LOCATION:Evolve Strength 1920 Willingdon Ave #3105
SUMMARY:Kinesiology Stretch + Recover with Ashley Hernandez
DESCRIPTION: Start your week off strong with our Sunday Sweat Series in partnership with Evolve Strength! Join us on Sunday\,  February 1 from 8am -9am for a complimentary Kinesiology Stretch + Recover class with Ashley Hernandez. When: Sunday\,  February 1 from 8am - 9am Where: Evolve Strength Brentwood (on the green[..]
END:VEVENT
END:VCALENDAR