BEGIN:VCALENDAR
VERSION:2.0
PRODID:-//eventon.com NONSGML v1.0//EN
BEGIN:VEVENT
UID:69e6299a6d74b
DTSTAMP:20260420T062650
DTSTART:20260215T150000Z
DTEND:20260215T160000Z
LOCATION:Evolve Strength 1920 Willingdon Ave #3105
SUMMARY:Functional Strength + Mobility with Brett Gorgchuck
DESCRIPTION: Start your week off strong with our Sunday Sweat Series in partnership with Evolve Strength! Join us on Sunday\,  February 15 from 8am -9am for a complimentary Functional Strength + Mobility with Brett Gorgchuck When: Sunday\,  February 15 from 8am - 9am Where: Evolve Strength Brentwood (on the green turf)[..]
END:VEVENT
END:VCALENDAR